BEGIN:VCALENDAR
VERSION:2.0
METHOD:PUBLISH
BEGIN:VEVENT
UID:WILD_APRICOT_EVENT_3384220_SESSION_1
DTSTART:20190502T060000Z
DTEND:20190502T060000Z
SUMMARY:MTB ride
LOCATION:Polhill\, Aro Valley
DESCRIPTION:http://revolvecycling.co.nz/event-3384220\n\nFORTNIGHTLY Thursday MTB Ride\n Polhill - ready to ride @ 6pm\n Intermediate (Ride Guide Julia)\n  The classic Polhill ride to the Wind turbine via Clinical followed by a descent via Carparts\, Spuds\, Transient and Serendipity. Meet at the park at the end of Aro Street\, ready to ride for 6pm. You will need night lights for this ride (commuter lights are not suitable).\n
DTSTAMP:20191222T212811Z
END:VEVENT
END:VCALENDAR
