BEGIN:VCALENDAR
VERSION:2.0
METHOD:PUBLISH
BEGIN:VEVENT
UID:WILD_APRICOT_EVENT_3359871_SESSION_1
DTSTART:20190418T060000Z
DTEND:20190418T060000Z
SUMMARY:MTB ride
LOCATION:TBC
DESCRIPTION:http://revolvecycling.co.nz/event-3359871\n\nFORTNIGHTLY Thursday MTB Ride **1st night ride of 2019!\n Thursday\, 18 April: meet at TBC @ 6pm\n TBC (Ride Guide TBC)\n TBC
DTSTAMP:20191222T212843Z
END:VEVENT
END:VCALENDAR
