BEGIN:VCALENDAR
VERSION:2.0
METHOD:PUBLISH
BEGIN:VEVENT
UID:WILD_APRICOT_EVENT_3359870_SESSION_1
DTSTART:20190412T200000Z
DTEND:20190412T200000Z
SUMMARY:Road Ride
LOCATION:
DESCRIPTION:http://revolvecycling.co.nz/event-3359870\n\nWEEKLY Saturday Road Ride\n Saturday\, 13 April: meet at MyRide (previously OnYerBike) @ 8am\n Intermediate (Ride Guide Liz M)\nThere's a southerly winds forecast for the weekend\, so join Ride Guide Liz M for a Makara anti-clockwise ride\, which might be the best choice. Let’s hope the rain and strong winds stay away - watch Racebook if it is looking yuck!! Coffee at iRide if we don’t get wet!\n
DTSTAMP:20191222T212855Z
END:VEVENT
END:VCALENDAR
