BEGIN:VCALENDAR
VERSION:2.0
METHOD:PUBLISH
BEGIN:VEVENT
UID:WILD_APRICOT_EVENT_3294038_SESSION_1
DTSTART:20190329T210000Z
DTEND:20190330T030000Z
SUMMARY:Revolve Super V 2019 Escape from Mt Crawford
LOCATION:Miramar Peninsula
DESCRIPTION:http://revolvecycling.co.nz/event-3294038\n\n \n  The Super V really is a one-of-a-kind women-only downhill race. This year we're having it in Miramar on March 30!  \n   \n  Under the shadow of the decommissioned Mt Crawford Prison you will enjoy the beautiful trails of the Miramar Track Project\, enjoying glorious biodiversity along the way as a result of the dedicated community restoration and predator control efforts!\n   \n  Enjoy our shuttles all morning. Ride from the dual slalom track into the famous Jail Brake\, finishing on Repeat Offender at the stream crossing.\n  \n\n  These are mainly intermediate trails. If you've not ridden there before\, check out this video and look out for our guided pre-rides in the weekly Revolver. We are switching it up this year so you will have two timed runs. Placings will be based on the fastest of your two timed runs. \n  \n\n  We have a cool new location for the prize-giving and after party at Double-Vision Brewery. We can't wait to celebrate with you following the event!\n  \n\n  In the situation of a severe weather forecast on the day of the event we will postpone to the 31st. Please note we do not offer refunds if the event goes ahead on the rain date. If we are forced to cancel\, we will refund what we are able to after non-recoverable expenses are met.\n   Programme for the Day\n  8.30am  Registrations open (until race briefing)\n\n   \n  9.00am Marshals briefing and lunch\n   \n  9.30am Marshal shuttle\n   \n  10am First riders shuttle\n   \n  12.15pm Registration closes\n   \n  12.45pm Last riders shuttle\n  \n\n  1.15pm Participants race briefing\n  \n\n  1.45pm Participants race shuttle departs\n  \n\n  2pm Race runs commence\n  \n\n  4pm Beer\n  \n\n  5pm Prizegiving and thank you at Double Vision Miramar \n  \n\n  \n\n  Registrations open! \n  T-Shirt Orders have now closed.\n  \n\n
DTSTAMP:20191222T212908Z
END:VEVENT
END:VCALENDAR
