BEGIN:VCALENDAR
VERSION:2.0
METHOD:PUBLISH
BEGIN:VEVENT
UID:WILD_APRICOT_EVENT_3243410_SESSION_1
DTSTART:20190207T050000Z
DTEND:20190207T050000Z
SUMMARY:MTB ride
LOCATION:Belmont MTB Park
DESCRIPTION:http://revolvecycling.co.nz/event-3243410\n\nWEEKLY Thursday MTB Ride\n Thursday\, 7 February: meet at Belmont @ 6pm\n Intermediate (Ride Guide Julia)\n\n  Join Ride Guide Julia for an intermediate ride at Belmont. Meet at the end of Stratton street (keep driving until you come to the very end). We will ride up 4 degrees\, down Bull Run and back up to finish on either Electric Avenue and Weta or Borderline\, depending on people's preference.\n
DTSTAMP:20191223T092452Z
END:VEVENT
END:VCALENDAR
