BEGIN:VCALENDAR
VERSION:2.0
METHOD:PUBLISH
BEGIN:VEVENT
UID:WILD_APRICOT_EVENT_3243407_SESSION_1
DTSTART:20190208T190000Z
DTEND:20190208T190000Z
SUMMARY:Road Ride
LOCATION:On Yer Bike
DESCRIPTION:http://revolvecycling.co.nz/event-3243407\n\nWEEKLY Saturday Road Ride\n Saturday\, 9 February: meet at 8am @ On Yer Bike\n Intermediate (Ride Guide Sarah)\n \n Join Ride Guide Sarah for a 40km intermediate to Korokoro/Belmont Hills via SH2\, with coffee at IRide to finish.\n
DTSTAMP:20191223T092442Z
END:VEVENT
END:VCALENDAR
