BEGIN:VCALENDAR
VERSION:2.0
METHOD:PUBLISH
BEGIN:VEVENT
UID:WILD_APRICOT_EVENT_3037850_SESSION_1
DTSTART:20180831T200000Z
DTEND:20180831T200000Z
SUMMARY:Road Ride
LOCATION:On Yer Bike
DESCRIPTION:http://revolvecycling.co.nz/event-3037850\n\nWEEKLY Saturday Road Ride\nSaturday\, 1 September: meet at 8am @ On Yer Bike\nBeginner/Intermediate (Ride Guide Sarah)  Join Ride Guide Sarah for a 50km Beginner/Intermediate ride to Eastbourne road end and return\, with coffee midway at Chocolate Dayz. A flat ride with some time on State Highway 2. E-bikes welcome as long as you have ridden on a state highway before.\n \n *If you are going to join Revolve on an e-bike\, please ready our policy HERE.\n\n
DTSTAMP:20181221T182556Z
END:VEVENT
END:VCALENDAR
