BEGIN:VCALENDAR
VERSION:2.0
METHOD:PUBLISH
BEGIN:VEVENT
UID:WILD_APRICOT_EVENT_3028204_SESSION_1
DTSTART:20180907T200000Z
DTEND:20180907T200000Z
SUMMARY:Road Ride
LOCATION:On Yer Bike
DESCRIPTION:http://revolvecycling.co.nz/event-3028204\n\nWEEKLY Saturday Road Ride\n\n Saturday\, 8 September: meet at 8am @ On Yer Bike\n\n TBC (Ride Guide TBC)  TBC\n
DTSTAMP:20181221T182546Z
END:VEVENT
END:VCALENDAR
