BEGIN:VCALENDAR
VERSION:2.0
METHOD:PUBLISH
BEGIN:VEVENT
UID:WILD_APRICOT_EVENT_3028198_SESSION_1
DTSTART:20181011T050000Z
DTEND:20181011T050000Z
SUMMARY:MTB ride
LOCATION:Belmont Regional Park
DESCRIPTION:http://revolvecycling.co.nz/event-3028198\n\nWEEKLY MTB Ride\n Thursday\, 11 October : meet at 6pm @ Stratton Street\, Belmont Regional Park\nBeginner (Ride Guide Julia)\n  Join Ride Guide Julia for a Belmont beginners ride. Practice lap of the Women of Dirt course\, followed by another loop all the way up to Old Coach Road and down Electric Avenue. This ride is suitable for beginners with a reasonable level of fitness - we will try get both loops finished before it gets dark\, but bring a light just in case. Meet at the Stratton Street Woolshed at 6pm (the carpark right at the very end of stratton street). Keep an eye out on the Facebook page as the weather forecast so far ain't looking great.\n\n Make sure you have proper night riding lights. Commuting lights are not sufficient. If you need to buy some\, On yer Bike and Capital Cycles are offering Revolve members a 15% discount! 
DTSTAMP:20181221T182535Z
END:VEVENT
END:VCALENDAR
