BEGIN:VCALENDAR
VERSION:2.0
METHOD:PUBLISH
BEGIN:VEVENT
UID:WILD_APRICOT_EVENT_2516399_SESSION_1
DTSTART:20170407T200000Z
DTEND:20170407T230000Z
SUMMARY:Saturday road ride
LOCATION:On Yer Bike\, 181 Vivian Street
DESCRIPTION:http://revolvecycling.co.nz/event-2516399\n\nMakara loop\, direction depending on wind. May include a couple extra side roads depending how we feel. Coffee to finish as always (either at Karori Park or Cafe Villa\, Ngaio).\n  Beginner/Intermediate.\n  40-50km\n\n  Ride Guide: Jenny\n\n
DTSTAMP:20180124T231059Z
END:VEVENT
END:VCALENDAR
