BEGIN:VCALENDAR
VERSION:2.0
METHOD:PUBLISH
BEGIN:VEVENT
UID:WILD_APRICOT_EVENT_2502206_SESSION_1
DTSTART:20170408T220000Z
DTEND:20170409T000000Z
SUMMARY:Sunday Excursion (MTB)
LOCATION:Belmont
DESCRIPTION:http://revolvecycling.co.nz/event-2502206\n\nSunday Excusion - Let's rock down to Electric Avenue!\n \n Meet this Sunday at 10:00 am at the carpark at the end of Hill Road. (Take the "Belmont Hills" Exit off Hwy 2 in Lower Hutt). We'll cruise on up to the Old Coach Rd and from there will enjoy a number of BAMBA's lovely tracks including the new "Electric Avenue".\n \n This ride will suit beginners and intermediate riders alike\, as long as you are prepared to ride 2 - 3 hours (at a "social" pace). Bring some snacks to keep your energy up\, and be prepared for changes in weather.\n \n If you have any questions\, or would like to carpool please contact Nicole at 021 074 8541 or hoynicole5@gmail.com. Looking fwd to seeing you there!
DTSTAMP:20180124T231047Z
END:VEVENT
END:VCALENDAR
