BEGIN:VCALENDAR
VERSION:2.0
METHOD:PUBLISH
BEGIN:VEVENT
UID:WILD_APRICOT_EVENT_2495567_SESSION_1
DTSTART:20170331T203000Z
DTEND:20170331T223000Z
SUMMARY:Weekends at Wainui (Saturday MTB)
LOCATION:Wainui
DESCRIPTION:http://revolvecycling.co.nz/event-2495567\n\nTBC\n\n
DTSTAMP:20180124T231144Z
END:VEVENT
END:VCALENDAR
