BEGIN:VCALENDAR
VERSION:2.0
METHOD:PUBLISH
BEGIN:VEVENT
UID:WILD_APRICOT_EVENT_2495564_SESSION_1
DTSTART:20170406T060000Z
DTEND:20170406T080000Z
SUMMARY:Thursday night MTB ride
LOCATION:Polhill
DESCRIPTION:http://revolvecycling.co.nz/event-2495564\n\nJoin ride guide Franziska for the first night ride this year. We will start off with a classic intermediate Polhill ride up to the Windturbine and back to ease into nightriding.  \n\nMeet at the park at the end of Aro Street\, ready to ride for 6pm.  Ride Guide: Franziska\n\n  \n\n
DTSTAMP:20180124T231122Z
END:VEVENT
END:VCALENDAR
