BEGIN:VCALENDAR
VERSION:2.0
METHOD:PUBLISH
BEGIN:VEVENT
UID:WILD_APRICOT_EVENT_2485334_SESSION_1
DTSTART:20170316T050000Z
DTEND:20170316T070000Z
SUMMARY:Thursday night MTB ride
LOCATION:Miramar
DESCRIPTION:http://revolvecycling.co.nz/event-2485334\n\nIntermediate laps at Miramar - either a couple of loops of jailbreak\, or if people are keen we can check out Solitary as well. Meet outside La Boca Loca in Miramar ready to ride at 6pm.\n \n If people are keen for a bite to eat afterwards we can either go to La Boca Loca or Park Kitchen.  Ride Guide: Julia\n\n
DTSTAMP:20180124T231317Z
END:VEVENT
END:VCALENDAR
