BEGIN:VCALENDAR
VERSION:2.0
METHOD:PUBLISH
BEGIN:VEVENT
UID:WILD_APRICOT_EVENT_2485333_SESSION_1
DTSTART:20170330T050000Z
DTEND:20170330T070000Z
SUMMARY:Thursday night MTB ride
LOCATION:Miramar
DESCRIPTION:http://revolvecycling.co.nz/event-2485333\n\nCome to Miramar for the last ride before daylight savings ends. Meet at the Miramar N Road trail entrance\, by David Farrington Park at 6pm. We'll session Jail Brake a few times which is an intermediate track.  \n\n  Ride Guide: Kelsey\n
DTSTAMP:20180124T231207Z
END:VEVENT
END:VCALENDAR
