BEGIN:VCALENDAR
VERSION:2.0
METHOD:PUBLISH
BEGIN:VEVENT
UID:WILD_APRICOT_EVENT_2485331_SESSION_1
DTSTART:20170323T050000Z
DTEND:20170323T070000Z
SUMMARY:Thursday night MTB ride
LOCATION:Wainui
DESCRIPTION:http://revolvecycling.co.nz/event-2485331\n\nIntermediate - Advanced\n Meet 6pm ready to ride at Wainui carpark for a few loops: 491 followed by beeline. we'll also fit in towhai traverse if we've got time.  Ride Guide: Anna\n\n  \n\n
DTSTAMP:20180124T231229Z
END:VEVENT
END:VCALENDAR
