BEGIN:VCALENDAR
VERSION:2.0
METHOD:PUBLISH
BEGIN:VEVENT
UID:WILD_APRICOT_EVENT_2485330_SESSION_1
DTSTART:20170309T050000Z
DTEND:20170309T070000Z
SUMMARY:Thursday night MTB ride
LOCATION:TBC
DESCRIPTION:http://revolvecycling.co.nz/event-2485330\n\nTBC
DTSTAMP:20180124T231354Z
END:VEVENT
END:VCALENDAR
