BEGIN:VCALENDAR
VERSION:2.0
METHOD:PUBLISH
BEGIN:VEVENT
UID:WILD_APRICOT_EVENT_2485329_SESSION_1
DTSTART:20170331T190000Z
DTEND:20170331T220000Z
SUMMARY:Saturday road ride
LOCATION:On Yer Bike\, 181 Vivian Street
DESCRIPTION:http://revolvecycling.co.nz/event-2485329\n\nRide to Eastbourne and on to Burden's Gate. Coffee stop at Chocolate Dayz Cafe in Days Bayon the way back.\n  Beginners ride.\n\n  50km.\n\n  Ride Guide: Ruth\n\n
DTSTAMP:20180124T231156Z
END:VEVENT
END:VCALENDAR
