BEGIN:VCALENDAR
VERSION:2.0
METHOD:PUBLISH
BEGIN:VEVENT
UID:WILD_APRICOT_EVENT_2485327_SESSION_1
DTSTART:20170324T190000Z
DTEND:20170324T220000Z
SUMMARY:Saturday road ride
LOCATION:On Yer Bike\, 181 Vivian Street
DESCRIPTION:http://revolvecycling.co.nz/event-2485327\n\nTBC
DTSTAMP:20180124T231218Z
END:VEVENT
END:VCALENDAR
