BEGIN:VCALENDAR
VERSION:2.0
METHOD:PUBLISH
BEGIN:VEVENT
UID:WILD_APRICOT_EVENT_2485325_SESSION_1
DTSTART:20170317T190000Z
DTEND:20170317T220000Z
SUMMARY:Saturday road ride
LOCATION:On Yer Bike\, 181 Vivian Street
DESCRIPTION:http://revolvecycling.co.nz/event-2485325\n\nHeading north through the western suburbs to Porirua\, around Pauatahanui inlet and back over the Porirua rollers. We'll follow the new cycle trail from Porirua to Tawa and finish at i-Ride for coffee. Some endurance and hill fitness required.\n  70-80 km\n\n  Ride Guide: Ruth\n\n
DTSTAMP:20180124T231306Z
END:VEVENT
END:VCALENDAR
