BEGIN:VCALENDAR
VERSION:2.0
METHOD:PUBLISH
BEGIN:VEVENT
UID:WILD_APRICOT_EVENT_2485323_SESSION_1
DTSTART:20170310T190000Z
DTEND:20170310T220000Z
SUMMARY:Saturday road ride
LOCATION:On Yer Bike\, 181 Vivian Street
DESCRIPTION:http://revolvecycling.co.nz/event-2485323\n\nHeading north through the western suburbs to Porirua\, around Pauatahanui inlet and back over the Porirua rollers.\n We'll follow the new cycle trail from Porirua to Tawa and finish at i-Ride for coffee. Some endurance and hill fitness required.  Ride Guide: Ruth\n\n  Cancellation will be posted on Revolve Facebook by 7am.\n\n
DTSTAMP:20180124T231343Z
END:VEVENT
END:VCALENDAR
