BEGIN:VCALENDAR
VERSION:2.0
METHOD:PUBLISH
BEGIN:VEVENT
UID:WILD_APRICOT_EVENT_2480665_SESSION_1
DTSTART:20170302T050000Z
DTEND:20170302T070000Z
SUMMARY:Thursday night MTB ride
LOCATION:Makara Peak MTB Park
DESCRIPTION:http://revolvecycling.co.nz/event-2480665\n\nThursday\, 2 March\, 6pm @ Makara\n\n  Intermediate (Ride Guide Dee)\n  Join Ride Guide Dee for an intermediate ride at Makara Peak. We'll do a Grand Loop and split into groups if necessary. Meet at Makara Peak carpark ready to ride at 6pm.\n
DTSTAMP:20180124T231433Z
END:VEVENT
END:VCALENDAR
