BEGIN:VCALENDAR
VERSION:2.0
METHOD:PUBLISH
BEGIN:VEVENT
UID:WILD_APRICOT_EVENT_2480660_SESSION_1
DTSTART:20170303T190000Z
DTEND:20170303T220000Z
SUMMARY:Saturday road ride
LOCATION:On Yer Bike\, 181 Vivian Street
DESCRIPTION:http://revolvecycling.co.nz/event-2480660\n\n4 March: meet at 8am @ On Yer Bike\n Intermediate (Ride Guide Nicola)\n \n Join Ride Guide Nicola for a 40km intermediate ride to Takapu road in Tawa\, finishing up with post-ride coffee at cafe Villa in Ngaio.  Coffee at either Greta Point Cafe or i-Ride depending on where we end up.\n  Cancellation will be posted on Revolve Facebook by 7am.\n\n
DTSTAMP:20180124T231422Z
END:VEVENT
END:VCALENDAR
