BEGIN:VCALENDAR
VERSION:2.0
METHOD:PUBLISH
BEGIN:VEVENT
UID:WILD_APRICOT_EVENT_2472682_SESSION_1
DTSTART:20170224T190000Z
DTEND:20170224T220000Z
SUMMARY:Saturday road ride
LOCATION:On Yer Bike\, 181 Vivian Street
DESCRIPTION:http://revolvecycling.co.nz/event-2472682\n\n 25 February: meet at 8am @ On Yer Bike\n\n  Intermediate (Ride Guide Ruth)\n  Join Ride Guide Ruth for a hilly intermediate ride. Exact route yet to be determine but it will be approximately 40km. A few hills to get your legs and lungs working but nothing too extreme - similar to the Makara loop but without venturing far from town. Coffee at either Greta Point Cafe or i-Ride depending on where we end up.\n  Cancellation will be posted on Revolve Facebook by 7am.\n\n
DTSTAMP:20180124T231443Z
END:VEVENT
END:VCALENDAR
