BEGIN:VCALENDAR
VERSION:2.0
METHOD:PUBLISH
BEGIN:VEVENT
UID:WILD_APRICOT_EVENT_2467667_SESSION_1
DTSTART:20170310T210000Z
DTEND:20170311T030000Z
SUMMARY:Revolve Super V 2017
LOCATION:Polhill Reserve
DESCRIPTION:http://revolvecycling.co.nz/event-2467667\n\nA one-of-a-kind women-only downhill race that includes shuttles all morning!\n  Get shuttled to the Brooklyn wind turbine car park and ride down Car Parts\, Roller Coaster\, Highbury Fling\, Transient and Serendipity.\n  These are mainly intermediate trails that will take about 20-45 minutes to ride down.\n  Programme for the Day\n\n  8.30am  Registrations open (until race briefing)\n\n   \n  9.00am Marshals briefing and lunch\n  \n\n  9.30am Marshal shuttle\n  \n\n  10am First riders shuttle\n  \n\n  12.15pm Registration closes\n  \n\n  12.45pm Last riders shuttle\n  \n\n  1.15pm Participants race briefing\n  \n\n  1.45pm Participants race shuttle departs\n  \n\n  2pm Race run commence\n  \n\n  4pm Pizza and beer\n  \n\n  4.15pm Prizegiving and thank-you\n  \n\n  Registrations open now!\n  \n\n  See the Super V Facebook event page for T-Shirt options.\n
DTSTAMP:20180124T231329Z
END:VEVENT
END:VCALENDAR
