BEGIN:VCALENDAR
VERSION:2.0
METHOD:PUBLISH
BEGIN:VEVENT
UID:WILD_APRICOT_EVENT_2462625_SESSION_1
DTSTART:20170218T210000Z
DTEND:20170219T000000Z
SUMMARY:Sunday Excursion (MTB)
LOCATION:Fitzgerald Place\, Karori
DESCRIPTION:http://revolvecycling.co.nz/event-2462625\n\nSunday Excursion - Come out and explore some of the "other" trails in Karori. We'll ride up Salvation\, enjoy the view from the Wright's Hill Lookout\, then descend to Scout Hall. After that we'll climb make our way over to the Karori Sanctuary and climb from there up to the Skyline track\, where the views are also spectacular. We'll then ride down to Karori Park via Wahine. While the ride includes some significant climbing\, we do ride at a social pace. Allow about 3 hours to complete the ride. \n  Meet at 10:00 am at the carpark at the bottom of Salvation (the end of Fitzgerald Pl). Please contact Nicole at hoynicole5@gmail.com with any questions.\n\n
DTSTAMP:20180124T231508Z
END:VEVENT
END:VCALENDAR
