BEGIN:VCALENDAR
VERSION:2.0
METHOD:PUBLISH
BEGIN:VEVENT
UID:WILD_APRICOT_EVENT_2462614_SESSION_1
DTSTART:20170216T050000Z
DTEND:20170216T070000Z
SUMMARY:Thursday night MTB ride
LOCATION:Polhill Reserve
DESCRIPTION:http://revolvecycling.co.nz/event-2462614\n\nJoin Ride Guide Franziska for some Serendipity laps at Polhill. We'll meet at the carpark at the end of Aro Street at 6pm and will do as many loops as we fancy. Running a little late? Join us for the 2nd run!  \n\n  Intermediate. \n
DTSTAMP:20180124T231518Z
END:VEVENT
END:VCALENDAR
