BEGIN:VCALENDAR
VERSION:2.0
METHOD:PUBLISH
BEGIN:VEVENT
UID:WILD_APRICOT_EVENT_2462610_SESSION_1
DTSTART:20170210T190000Z
DTEND:20170210T220000Z
SUMMARY:Saturday road ride
LOCATION:On Yer Bike\, 181 Vivian Street
DESCRIPTION:http://revolvecycling.co.nz/event-2462610\n\n11 February: meet at 8am @ On Yer Bike\n \n Intermediate (Ride Guide Nicola)\n Join Ride Guide Nicola for a 45km intermediate ride around the Korokoro and Belmont hills\, with a coffee at iRide to finish! \n  Cancellation will be posted on Revolve Facebook by 7am.\n\n
DTSTAMP:20180124T231539Z
END:VEVENT
END:VCALENDAR
