BEGIN:VCALENDAR
VERSION:2.0
METHOD:PUBLISH
BEGIN:VEVENT
UID:WILD_APRICOT_EVENT_2451585_SESSION_1
DTSTART:20170203T190000Z
DTEND:20170203T220000Z
SUMMARY:Saturday road ride
LOCATION:On Yer Bike\, 181 Vivian Street
DESCRIPTION:http://revolvecycling.co.nz/event-2451585\n\nA beginners ride to Eastbourne and back. We will stop at Chocolate Days cafe.\n  Ride Guide: Jenny\n  Cancellation will be posted on Revolve Facebook by 7am.\n\n
DTSTAMP:20180124T231614Z
END:VEVENT
END:VCALENDAR
