BEGIN:VCALENDAR
VERSION:2.0
METHOD:PUBLISH
BEGIN:VEVENT
UID:WILD_APRICOT_EVENT_2451581_SESSION_1
DTSTART:20170223T050000Z
DTEND:20170223T070000Z
SUMMARY:Thursday night MTB ride
LOCATION:Wainui
DESCRIPTION:http://revolvecycling.co.nz/event-2451581\n\nMeet at 6 pm at Te Whiti park by the playground for an intermediate ride. We will head up Te Whiti riser and down Freewheel and Superplus. ~2 hour ride.\n  Ride Guide: Sarah\n
DTSTAMP:20180124T231455Z
END:VEVENT
END:VCALENDAR
