BEGIN:VCALENDAR
VERSION:2.0
METHOD:PUBLISH
BEGIN:VEVENT
UID:WILD_APRICOT_EVENT_2451577_SESSION_1
DTSTART:20170209T050000Z
DTEND:20170209T070000Z
SUMMARY:Thursday night MTB ride
LOCATION:Makara Peak
DESCRIPTION:http://revolvecycling.co.nz/event-2451577\n\nIntermediate / advanced loop from the Makara carpark. The Ridgeline has had a recent tidy-up and is in good nick. It's rated 'advanced' but if you're unsure\, it's a similar level to Livewires (rated intermediate). If you're OK to tackle Livewires you're Ridgeline ready!!  \n\nRide Guide: Lou
DTSTAMP:20180124T231550Z
END:VEVENT
END:VCALENDAR
