BEGIN:VCALENDAR
VERSION:2.0
METHOD:PUBLISH
BEGIN:VEVENT
UID:WILD_APRICOT_EVENT_2436655_SESSION_1
DTSTART:20170127T190000Z
DTEND:20170127T220000Z
SUMMARY:Saturday road ride
LOCATION:On Yer Bike\, 181 Vivian Street
DESCRIPTION:http://revolvecycling.co.nz/event-2436655\n\nThis is a beginners ride around the bays. There will be no hills and happy to have lots of stops for riders to ask questions etc. as we will go past Freyberg\, then through Kilbirnie to Lyall Bay. Then following the bays to Seatoun then back to the CBD. We will sit in the sun for a coffee at Karaka Cafe. Bring your togs if you are keen for a swim at Thorndon pool after.\n \n Ride Guide: Katie\n  Cancellation will be posted on Revolve Facebook by 7am.\n\n
DTSTAMP:20180124T231635Z
END:VEVENT
END:VCALENDAR
