BEGIN:VCALENDAR
VERSION:2.0
METHOD:PUBLISH
BEGIN:VEVENT
UID:WILD_APRICOT_EVENT_2436654_SESSION_1
DTSTART:20170120T190000Z
DTEND:20170120T220000Z
SUMMARY:Saturday road ride
LOCATION:On Yer Bike\, 181 Vivian Street
DESCRIPTION:http://revolvecycling.co.nz/event-2436654\n\nMakara loop\, direction depending on wind. May include a couple extra side roads depending how we feel. Coffee to finish as always (either at Karori Park or Cafe Villa\, Ngaio)\n \n Intermediate ride\, 40 - 50km\n \n Ride Guide: Nicola\n  Cancellation will be posted on Revolve Facebook by 7am.\n\n
DTSTAMP:20180124T231656Z
END:VEVENT
END:VCALENDAR
