BEGIN:VCALENDAR
VERSION:2.0
METHOD:PUBLISH
BEGIN:VEVENT
UID:WILD_APRICOT_EVENT_2436651_SESSION_1
DTSTART:20170128T200000Z
DTEND:20170128T223000Z
SUMMARY:Sunday ride (MTB)
LOCATION:Wainui
DESCRIPTION:http://revolvecycling.co.nz/event-2436651\n\nIntermediate and beginner ride at WTP\, Wainuiomata. Intemediate riders to be ready to ride at the carpark at 9.00 for Freewheel and a muddle down 491. The beginner riders to meet at 11 for a ride up Jungles\, Labrinth and down the oh so fun new downhill trail.  \n\nBoth rides 1.5 hours each. Ride Guide is Dee on 021 231 9751\n \n Watch Facebook for an update if it's wet.  \n\n  \n\n
DTSTAMP:20180124T231625Z
END:VEVENT
END:VCALENDAR
