BEGIN:VCALENDAR
VERSION:2.0
METHOD:PUBLISH
BEGIN:VEVENT
UID:WILD_APRICOT_EVENT_2436650_SESSION_1
DTSTART:20170126T050000Z
DTEND:20170126T070000Z
SUMMARY:Thursday night MTB ride
LOCATION:Polhill Reserve
DESCRIPTION:http://revolvecycling.co.nz/event-2436650\n\nAn intermediate ride at Polhill. Come along and enjoy a ride up to the windmill and back. Meet at the park at the end of Aro Street\, ready to ride for 6pm.\n Ride Guide: Kelsey  (In case of bad weather\, check the Revolve Facebook page on the day! Cancellations will be made on Facebook\, NOT here!)\n\n\n
DTSTAMP:20180124T231646Z
END:VEVENT
END:VCALENDAR
