BEGIN:VCALENDAR
VERSION:2.0
METHOD:PUBLISH
BEGIN:VEVENT
UID:WILD_APRICOT_EVENT_2436631_SESSION_1
DTSTART:20170119T050000Z
DTEND:20170119T070000Z
SUMMARY:Thursday night MTB ride
LOCATION:Makara Peak MTB Park
DESCRIPTION:http://revolvecycling.co.nz/event-2436631\n\nThe Revolve MTB rides are back in business! Meet at Makara at 6pm for a cruisy ride into the New Year. This ride will be great for beginners with a ride on the lower trails and intermediate riders can peel for the more spicy trails. We'd love to see some new and the old faces. 1.5 - 5 hours\, be ready to ride at 6pm. We'll go for a drink and snack at the Pickle Jar after.  \n\nRide Guide: Dee (021 231 9751)  (In case of bad weather\, check the Revolve Facebook page on the day! Cancellations will be made on Facebook\, NOT here!)\n\n\n
DTSTAMP:20180124T231707Z
END:VEVENT
END:VCALENDAR
