BEGIN:VCALENDAR
VERSION:2.0
METHOD:PUBLISH
BEGIN:VEVENT
UID:WILD_APRICOT_EVENT_2389726_SESSION_1
DTSTART:20161215T053000Z
DTEND:20161215T083000Z
SUMMARY:REVOLVE XMAS PARTY!
LOCATION:Southern Cross Garden Bar
DESCRIPTION:http://revolvecycling.co.nz/event-2389726\n\nIt's that time of the year when we ditch our bikes and swap them for booze\, banter and boys (for those of you wanting to bring one along!)\n  It's the....Revolve Xmas Party!\n  Nibbles will be provided\, awards will be distributed to those who have supported us throughout the year and (no doubt) great outfits will be worn!\n  So put it in your diary and invite along partners\, friends - anyone who supports Revolve and wants to have a good time.\n  This year there is EVEN more reason to come as the winner of the Juliana-Joplin raffle will be drawn!!!! \n  If you haven't bought a ticket yet\, you can do so here: http://revolvecycling.co.nz/event-2380927\n  \n\n
DTSTAMP:20180124T231717Z
END:VEVENT
END:VCALENDAR
