BEGIN:VCALENDAR
VERSION:2.0
METHOD:PUBLISH
BEGIN:VEVENT
UID:WILD_APRICOT_EVENT_2389697_SESSION_1
DTSTART:20161209T210000Z
DTEND:20161209T230000Z
SUMMARY:Saturday ride (MTB)
LOCATION:Porirua
DESCRIPTION:http://revolvecycling.co.nz/event-2389697\n\nPorirua beginner/intermediate ride.\n \n Meet at the car park off Broken Hill Road. We'll go up the Doctor and then down Tumeke\, with most likely a couple of laps round that via the 4WD track back uphill\, so it will be tiring!\n \n A cruisy uphill apart from that part and Tumeke is easy enough to walk if necessary. We'll then come back down via Spicer Link or the Doctor again (tbc).  Ride Guide: Alexandra\n  \n\n  \n\n
DTSTAMP:20180124T231728Z
END:VEVENT
END:VCALENDAR
