BEGIN:VCALENDAR
VERSION:2.0
METHOD:PUBLISH
BEGIN:VEVENT
UID:WILD_APRICOT_EVENT_2339711_SESSION_1
DTSTART:20161006T050000Z
DTEND:20161006T070000Z
SUMMARY:Thursday night MTB ride
LOCATION:Polhill Reserve
DESCRIPTION:http://revolvecycling.co.nz/event-2339711\n\nJoin Ride Guide Faith for some Serendipity laps at Polhill - do as many as you like! Great for those short on time or just wanting to improve their skills by sessioning this intermediate/advanced track.  \n\nOption to follow up with a beer at Garage Project\, so bring lights and a lock!   Meet at 6pm at the little park at the end of Aro Valley.\n\n(In case of bad weather\, check the Revolve Facebook page on the day!)
DTSTAMP:20180125T015504Z
END:VEVENT
END:VCALENDAR
