BEGIN:VCALENDAR
VERSION:2.0
METHOD:PUBLISH
BEGIN:VEVENT
UID:WILD_APRICOT_EVENT_2328594_SESSION_1
DTSTART:20160917T220000Z
DTEND:20160917T220000Z
SUMMARY:Beginner/Intermediate mountainbike ride
LOCATION:TBC - watch the Revolver!
DESCRIPTION:http://revolvecycling.co.nz/event-2328594\n\nWhether you are a novice to mountain biking or riding a bit now and want to meet like minded ladies\, this will be a fun day out. \n
DTSTAMP:20180125T015547Z
END:VEVENT
END:VCALENDAR
