BEGIN:VCALENDAR
VERSION:2.0
METHOD:PUBLISH
BEGIN:VEVENT
UID:WILD_APRICOT_EVENT_2305522_SESSION_1
DTSTART:20160804T060000Z
DTEND:20160804T080000Z
SUMMARY:Thursday night MTB ride
LOCATION:Polhill
DESCRIPTION:http://revolvecycling.co.nz/event-2305522\n\nMeet at 6pm @ Makara Peak carpark\n Join Ride Guide Anna for an intermediate Makara Peak ride. Meet at the Makara Peak carpark ready to ride at 6pm. If the weather's nice enough\, we'll do a full loop\, if it's a bit nasty we'll do a lower loop. If we're not too frozen afterwards\, we'll have a burger and chips at One Fat Bird in Marsden village.
DTSTAMP:20180125T015721Z
END:VEVENT
END:VCALENDAR
