BEGIN:VCALENDAR
VERSION:2.0
METHOD:PUBLISH
BEGIN:VEVENT
UID:WILD_APRICOT_EVENT_2296274_SESSION_1
DTSTART:20160730T213000Z
DTEND:20160731T020000Z
SUMMARY:Akas singletrack adventure
LOCATION:Akatarawa Forest
DESCRIPTION:http://revolvecycling.co.nz/event-2296274\n\nAkas Singletrack Adventure. Meet in the Park & Ride Car Park at 14-22 Tilley Road\, Paekakariki so options to drive or come by train (Wellington Central 08:44 arrives Paekak 09:30). \n  We will ride through Queen Elizabeth Park to Whareroa where we will head up the single track to Campbell's Mill Road. \n  As long as the weather is not too disgusting\, we’ll head into the Akas to explore some jungle singletrack. \n  Bring plenty of food\, warm clothes\, grippy tyres and your bestest skillz! \n  Advanced ride with plenty of climbing and some technical descents. Expect to be riding for about 4 hours.\n\n     \n 
DTSTAMP:20180125T015732Z
END:VEVENT
END:VCALENDAR
