BEGIN:VCALENDAR
VERSION:2.0
METHOD:PUBLISH
BEGIN:VEVENT
UID:WILD_APRICOT_EVENT_2296273_SESSION_1
DTSTART:20160812T200000Z
DTEND:20160812T230000Z
SUMMARY:Saturday road ride
LOCATION:On Yer Bike\, 181 Vivian Street
DESCRIPTION:http://revolvecycling.co.nz/event-2296273\n\nKorokoro/Belmont hills\, stop at iRide for coffee after. \n\n  Ride Guide: Nicola\n  Level: intermediate\n  Length: 45km\n
DTSTAMP:20181223T235441Z
END:VEVENT
END:VCALENDAR
